BEGIN:VCALENDAR
VERSION:2.0
PRODID:-//Goombay Adventurers - ECPv6.15.20//NONSGML v1.0//EN
CALSCALE:GREGORIAN
METHOD:PUBLISH
X-WR-CALNAME:Goombay Adventurers
X-ORIGINAL-URL:https://goombayadventurers.com
X-WR-CALDESC:Events for Goombay Adventurers
REFRESH-INTERVAL;VALUE=DURATION:PT1H
X-Robots-Tag:noindex
X-PUBLISHED-TTL:PT1H
BEGIN:VTIMEZONE
TZID:America/New_York
BEGIN:DAYLIGHT
TZOFFSETFROM:-0500
TZOFFSETTO:-0400
TZNAME:EDT
DTSTART:20240310T070000
END:DAYLIGHT
BEGIN:STANDARD
TZOFFSETFROM:-0400
TZOFFSETTO:-0500
TZNAME:EST
DTSTART:20241103T060000
END:STANDARD
BEGIN:DAYLIGHT
TZOFFSETFROM:-0500
TZOFFSETTO:-0400
TZNAME:EDT
DTSTART:20250309T070000
END:DAYLIGHT
BEGIN:STANDARD
TZOFFSETFROM:-0400
TZOFFSETTO:-0500
TZNAME:EST
DTSTART:20251102T060000
END:STANDARD
BEGIN:DAYLIGHT
TZOFFSETFROM:-0500
TZOFFSETTO:-0400
TZNAME:EDT
DTSTART:20260308T070000
END:DAYLIGHT
BEGIN:STANDARD
TZOFFSETFROM:-0400
TZOFFSETTO:-0500
TZNAME:EST
DTSTART:20261101T060000
END:STANDARD
END:VTIMEZONE
BEGIN:VEVENT
DTSTART;TZID=America/New_York:20250619T173000
DTEND;TZID=America/New_York:20250619T200000
DTSTAMP:20260425T220240
CREATED:20250505T221512Z
LAST-MODIFIED:20250505T221512Z
UID:10000178-1750354200-1750363200@goombayadventurers.com
SUMMARY:Juneteenth Hot Tub Boat Tour Party
DESCRIPTION:Goombay Adventurers & Unique Stays\nbring you  \nThe Juneteenth Hot Tub Boat Tour Party \nThursday\, June 19th \n5:30pm – 8:00pm\n(check in begins at 5:30pm) \nMarket Docks at the Wharf Marina \n101 Market Square SW Washington\, DC 20024 \n$165 per person\n($100 deposit to hold your spot) \nREGISTER AT WWW.GOOMBAY.NET \nWHAT’S INCLUDED: \n✔ Private (Hot Tub Boat for up to 20 people) \n✔Your personal\, temperature-controlled spa on the water\n✔ Breathtaking Panoramic Views of Washington\, D.C.\n✔ Onboard Bluetooth Speakers – Set the perfect vibe\n✔ Coolers\, Ice\, & Cups Provided – BYOB and sip in style\n✔ Full Bathroom & Private Changing Room – Elevating your comfort \nBYOB  \nWe offer an unparalleled Hot Tub Boat experience in Washington\, D.C. Bring your favorite wine\, beer\, champagne\, or hard seltzers (BYOB)\, and get ready to unwind while taking in the capital’s most breathtaking views on an outing like no other. \nHOT TUB ON A BOAT \nThe boat carries two\, ten-person commercial-grade hot tubs and holds 20 participants comfortably. The boat’s amenities include a large bathroom and a separate changing room. Coolers are provided for your beer and wine. In addition to the captain\, deckhands are on board to assist guests. Our 40’ Coast Guard-certified vessel is operated by a USCG licensed Master Captain. \nFOR MORE DETAILS CONTACT BUTCH AT (202) 210-1957
URL:https://goombayadventurers.com/event/juneteenth-hot-tub-boat-tour-party/
LOCATION:Market Docks at the Wharf Marina\, 101 Market Square SW\, Washington\, DC\, 20024\, United States
CATEGORIES:Parties
ATTACH;FMTTYPE=image/avif:https://goombayadventurers.com/wp-content/uploads/2025/05/Hot-Tub-Boat-Tour-Flyer.avif
END:VEVENT
END:VCALENDAR