BEGIN:VCALENDAR
VERSION:2.0
PRODID:-//Goombay Adventurers - ECPv6.15.20//NONSGML v1.0//EN
CALSCALE:GREGORIAN
METHOD:PUBLISH
X-ORIGINAL-URL:https://goombayadventurers.com
X-WR-CALDESC:Events for Goombay Adventurers
REFRESH-INTERVAL;VALUE=DURATION:PT1H
X-Robots-Tag:noindex
X-PUBLISHED-TTL:PT1H
BEGIN:VTIMEZONE
TZID:America/New_York
BEGIN:DAYLIGHT
TZOFFSETFROM:-0500
TZOFFSETTO:-0400
TZNAME:EDT
DTSTART:20240310T070000
END:DAYLIGHT
BEGIN:STANDARD
TZOFFSETFROM:-0400
TZOFFSETTO:-0500
TZNAME:EST
DTSTART:20241103T060000
END:STANDARD
BEGIN:DAYLIGHT
TZOFFSETFROM:-0500
TZOFFSETTO:-0400
TZNAME:EDT
DTSTART:20250309T070000
END:DAYLIGHT
BEGIN:STANDARD
TZOFFSETFROM:-0400
TZOFFSETTO:-0500
TZNAME:EST
DTSTART:20251102T060000
END:STANDARD
BEGIN:DAYLIGHT
TZOFFSETFROM:-0500
TZOFFSETTO:-0400
TZNAME:EDT
DTSTART:20260308T070000
END:DAYLIGHT
BEGIN:STANDARD
TZOFFSETFROM:-0400
TZOFFSETTO:-0500
TZNAME:EST
DTSTART:20261101T060000
END:STANDARD
END:VTIMEZONE
BEGIN:VEVENT
DTSTART;TZID=America/New_York:20250419T090000
DTEND;TZID=America/New_York:20250419T170000
DTSTAMP:20260425T203400
CREATED:20250312T160011Z
LAST-MODIFIED:20250312T160011Z
UID:10000171-1745053200-1745082000@goombayadventurers.com
SUMMARY:Goombay Spring Smash Pickleball Tournament
DESCRIPTION:Goombay Spring Smash Pickleball Tournament  \nGet ready for an exciting day of competitive play at theGoombay Spring Smash Pickleball Tournament! This tournament is designed for intermediate mixed doubles players (levels 2.5-3.0) looking to showcase their skills\, enjoy great competition\, and connect with fellow pickleball enthusiasts. Whether you’re aiming for bragging rights or just in it for the fun\, this event promises a high-energy atmosphere with exciting matches and great sportsmanship. Grab your partner and get ready to smash!  \nEvent Details: \n\nDate: April 19\, 2025\nLocation: Glenarden Community Center\, Glenarden\, MD\nCheck-in: 9:30 AM\nGames Start: 10:00 AM\nFormat: Pool Play\, Best 2 out of 3 to 11 points\nDivisions: 2.5 and 3.0\n\nRegistration Fee: $100 per team (up to three players per team)\n\n \nPrizes: Medals for 1st\, 2nd\, and 3rd place winners in each division. \nFor more information or to register\, contact: Butch at 202-210-1957 or Akua at 301-440-0641
URL:https://goombayadventurers.com/event/goombay-spring-smash-pickleball-tournament/
LOCATION:Glenarden Community Center\, 8615 McLain Avenue\, Suite A\, Glenarden\, MD\, 20706\, United States
CATEGORIES:Pickleball
ATTACH;FMTTYPE=image/png:https://goombayadventurers.com/wp-content/uploads/2025/03/Untitled.png
END:VEVENT
BEGIN:VEVENT
DTSTART;TZID=America/New_York:20250222T090000
DTEND;TZID=America/New_York:20250222T170000
DTSTAMP:20260425T203400
CREATED:20250201T154616Z
LAST-MODIFIED:20250203T191020Z
UID:10000114-1740214800-1740243600@goombayadventurers.com
SUMMARY:2025 Goombay Black History Month Pickleball Classic
DESCRIPTION:Goombay Black History Month Pickleball Classic Tournament Registration \nJoin us for the Goombay Black History Paddle Classic\, a celebration of culture\, community\, and fun! The tournament will be held on February 22\, 2025\, at the Glenarden Community Center in Glenarden\, MD. Come compete in an exciting day of pickleball with friendly competition and great prizes. \nEvent Details: \n\nDate: February 22\, 2025\nLocation: Glenarden Community Center\, Glenarden\, MD\nCheck-in: 9:30 AM\nGames Start: 10:00 AM\nFormat: Pool Play\, Best 2 out of 3 to 11 points\nDivisions: 2.5 and 3.0\n\nRegistration Fee: $100 per team\nPrizes: Medals for 1st\, 2nd\, and 3rd place winners in each division. \nCLICK HERE TO REGISTER \nFor more information or to register\, contact: Butch at 202-210-1957 or Akua at 301-44–0641 \nDon’t miss out on this exciting event! Sign up today and be part of a great day of pickleball and Black History Month celebration.
URL:https://goombayadventurers.com/event/2025-goombay-black-history-month-pickleball-classic/
LOCATION:Glenarden Community Center\, 8615 McLain Avenue\, Suite A\, Glenarden\, MD\, 20706\, United States
CATEGORIES:Pickleball
ATTACH;FMTTYPE=image/png:https://goombayadventurers.com/wp-content/uploads/2025/02/Untitled.png
END:VEVENT
END:VCALENDAR